BEGIN:VCALENDAR
VERSION:2.0
PRODID:-//wp-events-plugin.com//7.2.3.1//EN
BEGIN:VEVENT
UID:20@castlereacs.com
DTSTART;TZID=Europe/Dublin;VALUE=DATE:20241023
DTEND;TZID=Europe/Dublin;VALUE=DATE:20241026
DTSTAMP:20240722T081555Z
URL:https://www.castlereacs.com/events/school-musical/
SUMMARY:School Musical
DESCRIPTION:
CATEGORIES:School Trips &amp; Events
END:VEVENT
BEGIN:VTIMEZONE
TZID:Europe/Dublin
X-LIC-LOCATION:Europe/Dublin
BEGIN:DAYLIGHT
DTSTART:20240331T020000
TZOFFSETFROM:+0000
TZOFFSETTO:+0100
TZNAME:IST
END:DAYLIGHT
END:VTIMEZONE
END:VCALENDAR