BEGIN:VCALENDAR
VERSION:2.0
PRODID:-//wp-events-plugin.com//7.2.3.1//EN
BEGIN:VEVENT
UID:18@castlereacs.com
DTSTART;TZID=Europe/Dublin;VALUE=DATE:20250901
DTEND;TZID=Europe/Dublin;VALUE=DATE:20250904
DTSTAMP:20250706T151238Z
URL:https://www.castlereacs.com/events/9th-11th-ty-bonding-trip-killary/
SUMMARY:1st - 3rd: TY Bonding trip to Delphi Resort
DESCRIPTION:
CATEGORIES:Transition Year
END:VEVENT
BEGIN:VTIMEZONE
TZID:Europe/Dublin
X-LIC-LOCATION:Europe/Dublin
BEGIN:DAYLIGHT
DTSTART:20250330T020000
TZOFFSETFROM:+0000
TZOFFSETTO:+0100
TZNAME:IST
END:DAYLIGHT
END:VTIMEZONE
END:VCALENDAR